BEGIN:VCALENDAR
VERSION:2.0
PRODID:-//Arias For Aid - ECPv5.1.1//NONSGML v1.0//EN
CALSCALE:GREGORIAN
METHOD:PUBLISH
X-WR-CALNAME:Arias For Aid
X-ORIGINAL-URL:https://ariasforaid.org
X-WR-CALDESC:Events for Arias For Aid
BEGIN:VTIMEZONE
TZID:America/New_York
BEGIN:DAYLIGHT
TZOFFSETFROM:-0500
TZOFFSETTO:-0400
TZNAME:EDT
DTSTART:20200308T070000
END:DAYLIGHT
BEGIN:STANDARD
TZOFFSETFROM:-0400
TZOFFSETTO:-0500
TZNAME:EST
DTSTART:20201101T060000
END:STANDARD
END:VTIMEZONE
BEGIN:VEVENT
DTSTART;TZID=America/New_York:20200304T190000
DTEND;TZID=America/New_York:20200304T210000
DTSTAMP:20260423T102320
CREATED:20200216T201535Z
LAST-MODIFIED:20200227T004335Z
UID:36-1583348400-1583355600@ariasforaid.org
SUMMARY:Arias for Aid Concert - Port Charlotte - Cancelled
DESCRIPTION:Please note that the production of Arias For Aid is still on schedule for the March 2nd and March 3rd concerts. We are sorry that the March 4th concert at the Cultural Center of Charlotte has been cancelled.  If you would like to attend either of the two remaining concerts in on March 2nd and 3rd  please visit our web site at WWW.ARIASFORAID.ORG for ticket information. \n  \nArias for Aid (Doing well by doing good) created by a sponsor and Executive Producer from New York in 2019\, is a charity fundraising concert series comprised of international and local musicians who believe that art can play a part in improving the lives of those in need. \nPartnering most recently with the Rotary club of Siesta Key 100 percent of funds received will go directly to the Guatemala Literacy Project https://www.guatemalaliteracy.org/ and other local Rotary charities. \nFeaturing Metropolitan Opera Baritone Jason Stearns and some of the best musicians locally and internationally from Guatemala and Finland\, the concert will focus on women overcoming struggles from such opera classics such as Tosca\, Madame Butterfly and Carmen in the first half and popular music from Les Miserables\, Yentyl\, Andrea Bocelli in the second half. \nTHE CAST:\nLeslie Gonzalez – Soprano (Guatemala)\nJenny Sandelin – Soprano (Finland)\nJason Stearns – Baritone (USA)\nAndrade Russell – Tenor (Sarasota) (USA)\nAnne Tormela – Soprano Lyric-Coloratura (USA)\nElaine Rinaldi – Pianist\, Conductor Orchestra (USA) \nCancelled\n \n  \nCancelled\n
URL:https://ariasforaid.org/event/arias-for-aid-concert-port-charlotte/
LOCATION:Cultural Center of Charlotte County\, 2280 Aaron Street\, Port Charlotte\, FL\, 33952\, United States
CATEGORIES:Concerts
ATTACH;FMTTYPE=image/jpeg:https://ariasforaid.org/wp-content/uploads/2020/02/GLP-Banner.jpg
ORGANIZER;CN="The%20Manhattan%20Lyric%20Opera%20Company":MAILTO:admin@manhattanlyric.com
END:VEVENT
END:VCALENDAR